BEGIN:VCALENDAR
VERSION:2.0
PRODID:-//NK Tomislav Radnik - ECPv6.15.20//NONSGML v1.0//EN
CALSCALE:GREGORIAN
METHOD:PUBLISH
X-WR-CALNAME:NK Tomislav Radnik
X-ORIGINAL-URL:https://nktomislav.hr
X-WR-CALDESC:Događaji za NK Tomislav Radnik
REFRESH-INTERVAL;VALUE=DURATION:PT1H
X-Robots-Tag:noindex
X-PUBLISHED-TTL:PT1H
BEGIN:VTIMEZONE
TZID:Europe/Zagreb
BEGIN:DAYLIGHT
TZOFFSETFROM:+0100
TZOFFSETTO:+0200
TZNAME:CEST
DTSTART:20230326T010000
END:DAYLIGHT
BEGIN:STANDARD
TZOFFSETFROM:+0200
TZOFFSETTO:+0100
TZNAME:CET
DTSTART:20231029T010000
END:STANDARD
BEGIN:DAYLIGHT
TZOFFSETFROM:+0100
TZOFFSETTO:+0200
TZNAME:CEST
DTSTART:20240331T010000
END:DAYLIGHT
BEGIN:STANDARD
TZOFFSETFROM:+0200
TZOFFSETTO:+0100
TZNAME:CET
DTSTART:20241027T010000
END:STANDARD
BEGIN:DAYLIGHT
TZOFFSETFROM:+0100
TZOFFSETTO:+0200
TZNAME:CEST
DTSTART:20250330T010000
END:DAYLIGHT
BEGIN:STANDARD
TZOFFSETFROM:+0200
TZOFFSETTO:+0100
TZNAME:CET
DTSTART:20251026T010000
END:STANDARD
END:VTIMEZONE
BEGIN:VEVENT
DTSTART;TZID=Europe/Zagreb:20240731T180000
DTEND;TZID=Europe/Zagreb:20240731T200000
DTSTAMP:20260422T122003
CREATED:20240808T110925Z
LAST-MODIFIED:20240808T111211Z
UID:8327-1722448800-1722456000@nktomislav.hr
SUMMARY:NK Tomislav – Radnik vs NK Sloboda Gradec
DESCRIPTION:
URL:https://nktomislav.hr/dogadaj/nk-tomislav-radnik-vs-nk-sloboda-gradec/
LOCATION:NK Radnik-Križevci\, Šetalište Dragutina Novaka\, Križevci\, 48260\, Croatia (Local Name: Hrvatska)
CATEGORIES:Pripreme,Utakmica
END:VEVENT
END:VCALENDAR