BEGIN:VCALENDAR
VERSION:2.0
PRODID:-//NK Tomislav Radnik - ECPv6.15.20//NONSGML v1.0//EN
CALSCALE:GREGORIAN
METHOD:PUBLISH
X-ORIGINAL-URL:https://nktomislav.hr
X-WR-CALDESC:Događaji za NK Tomislav Radnik
REFRESH-INTERVAL;VALUE=DURATION:PT1H
X-Robots-Tag:noindex
X-PUBLISHED-TTL:PT1H
BEGIN:VTIMEZONE
TZID:Europe/Zagreb
BEGIN:DAYLIGHT
TZOFFSETFROM:+0100
TZOFFSETTO:+0200
TZNAME:CEST
DTSTART:20240331T010000
END:DAYLIGHT
BEGIN:STANDARD
TZOFFSETFROM:+0200
TZOFFSETTO:+0100
TZNAME:CET
DTSTART:20241027T010000
END:STANDARD
BEGIN:DAYLIGHT
TZOFFSETFROM:+0100
TZOFFSETTO:+0200
TZNAME:CEST
DTSTART:20250330T010000
END:DAYLIGHT
BEGIN:STANDARD
TZOFFSETFROM:+0200
TZOFFSETTO:+0100
TZNAME:CET
DTSTART:20251026T010000
END:STANDARD
BEGIN:DAYLIGHT
TZOFFSETFROM:+0100
TZOFFSETTO:+0200
TZNAME:CEST
DTSTART:20260329T010000
END:DAYLIGHT
BEGIN:STANDARD
TZOFFSETFROM:+0200
TZOFFSETTO:+0100
TZNAME:CET
DTSTART:20261025T010000
END:STANDARD
END:VTIMEZONE
BEGIN:VEVENT
DTSTART;TZID=Europe/Zagreb:20250202T140000
DTEND;TZID=Europe/Zagreb:20250202T170000
DTSTAMP:20260419T172814
CREATED:20250201T202743Z
LAST-MODIFIED:20250204T074143Z
UID:8868-1738504800-1738515600@nktomislav.hr
SUMMARY:NK Tomislav Radnik – NK Graničar Tučenik
DESCRIPTION:
URL:https://nktomislav.hr/dogadaj/nk-tomislav-radnik-nk-granicar-tucenik/
LOCATION:NK Tomislav – Radnik\, Ulica kralja Tomislava 1\, Sveti Ivan Žabno\, Koprivničko-Križevačka županija\, 48214\, Croatia (Local Name: Hrvatska)
CATEGORIES:Pripreme,Utakmica
ORGANIZER;CN="NK Tomislav Radnik":MAILTO:info@nk.tomislav-radnik.com
END:VEVENT
END:VCALENDAR