BEGIN:VCALENDAR
VERSION:2.0
PRODID:-//NK Tomislav Radnik - ECPv6.15.20//NONSGML v1.0//EN
CALSCALE:GREGORIAN
METHOD:PUBLISH
X-ORIGINAL-URL:https://nktomislav.hr
X-WR-CALDESC:Događaji za NK Tomislav Radnik
REFRESH-INTERVAL;VALUE=DURATION:PT1H
X-Robots-Tag:noindex
X-PUBLISHED-TTL:PT1H
BEGIN:VTIMEZONE
TZID:Europe/Zagreb
BEGIN:DAYLIGHT
TZOFFSETFROM:+0100
TZOFFSETTO:+0200
TZNAME:CEST
DTSTART:20240331T010000
END:DAYLIGHT
BEGIN:STANDARD
TZOFFSETFROM:+0200
TZOFFSETTO:+0100
TZNAME:CET
DTSTART:20241027T010000
END:STANDARD
BEGIN:DAYLIGHT
TZOFFSETFROM:+0100
TZOFFSETTO:+0200
TZNAME:CEST
DTSTART:20250330T010000
END:DAYLIGHT
BEGIN:STANDARD
TZOFFSETFROM:+0200
TZOFFSETTO:+0100
TZNAME:CET
DTSTART:20251026T010000
END:STANDARD
BEGIN:DAYLIGHT
TZOFFSETFROM:+0100
TZOFFSETTO:+0200
TZNAME:CEST
DTSTART:20260329T010000
END:DAYLIGHT
BEGIN:STANDARD
TZOFFSETFROM:+0200
TZOFFSETTO:+0100
TZNAME:CET
DTSTART:20261025T010000
END:STANDARD
END:VTIMEZONE
BEGIN:VEVENT
DTSTART;TZID=Europe/Zagreb:20250208T140000
DTEND;TZID=Europe/Zagreb:20250208T170000
DTSTAMP:20260419T155400
CREATED:20250202T171322Z
LAST-MODIFIED:20250204T101415Z
UID:8879-1739023200-1739034000@nktomislav.hr
SUMMARY:NK Tomislav Radnik – NK Graničar Tučenik
DESCRIPTION:Pridružite nam se 8. veljače 2025. na stadionu NK Tomislav Radnik gdje u 14:00 sati dočekujemo NK Graničar iz Tučenika! Ne propustite uzbudljivu pripremnu utakmicu i podržite svoj tim! ⚽🔵🔴
URL:https://nktomislav.hr/dogadaj/nk-tomislav-radnik-nk-granicar-tucenik-2/
LOCATION:NK Tomislav – Radnik\, Ulica kralja Tomislava 1\, Sveti Ivan Žabno\, Koprivničko-Križevačka županija\, 48214\, Croatia (Local Name: Hrvatska)
CATEGORIES:Pripreme,Utakmica
ATTACH;FMTTYPE=image/webp:https://nktomislav.hr/wp-content/uploads/2025/02/Najava-utakmice_250208-19-9.webp
ORGANIZER;CN="NK Tomislav Radnik":MAILTO:info@nk.tomislav-radnik.com
END:VEVENT
END:VCALENDAR