BEGIN:VCALENDAR
VERSION:2.0
PRODID:-//NK Tomislav Radnik - ECPv6.15.20//NONSGML v1.0//EN
CALSCALE:GREGORIAN
METHOD:PUBLISH
X-WR-CALNAME:NK Tomislav Radnik
X-ORIGINAL-URL:https://nktomislav.hr
X-WR-CALDESC:Događaji za NK Tomislav Radnik
REFRESH-INTERVAL;VALUE=DURATION:PT1H
X-Robots-Tag:noindex
X-PUBLISHED-TTL:PT1H
BEGIN:VTIMEZONE
TZID:Europe/Zagreb
BEGIN:DAYLIGHT
TZOFFSETFROM:+0100
TZOFFSETTO:+0200
TZNAME:CEST
DTSTART:20230326T010000
END:DAYLIGHT
BEGIN:STANDARD
TZOFFSETFROM:+0200
TZOFFSETTO:+0100
TZNAME:CET
DTSTART:20231029T010000
END:STANDARD
BEGIN:DAYLIGHT
TZOFFSETFROM:+0100
TZOFFSETTO:+0200
TZNAME:CEST
DTSTART:20240331T010000
END:DAYLIGHT
BEGIN:STANDARD
TZOFFSETFROM:+0200
TZOFFSETTO:+0100
TZNAME:CET
DTSTART:20241027T010000
END:STANDARD
BEGIN:DAYLIGHT
TZOFFSETFROM:+0100
TZOFFSETTO:+0200
TZNAME:CEST
DTSTART:20250330T010000
END:DAYLIGHT
BEGIN:STANDARD
TZOFFSETFROM:+0200
TZOFFSETTO:+0100
TZNAME:CET
DTSTART:20251026T010000
END:STANDARD
END:VTIMEZONE
BEGIN:VEVENT
DTSTART;TZID=Europe/Zagreb:20240724T180000
DTEND;TZID=Europe/Zagreb:20240724T200000
DTSTAMP:20260420T021541
CREATED:20240808T110313Z
LAST-MODIFIED:20240808T110313Z
UID:8322-1721844000-1721851200@nktomislav.hr
SUMMARY:NK Radnik Križevci vs NK Tomislav – Radnik
DESCRIPTION:
URL:https://nktomislav.hr/dogadaj/nk-radnik-krizevci-vs-nk-tomislav-radnik/
LOCATION:NK Radnik-Križevci\, Šetalište Dragutina Novaka\, Križevci\, 48260\, Croatia (Local Name: Hrvatska)
CATEGORIES:Pripreme,Utakmica
END:VEVENT
END:VCALENDAR